{"text_format":"3","workbook":"xlsx","n_sheets":3,"sheets":["by country","by year","values"],"not_rendered":{"charts":2},"read":"whole","date_system":"1900"}

{"sheet":"by country","index":0,"n_rows":45,"n_cols":11,"rows_kept":45,"merged":[[0,0,0,10],[1,0,1,10],[2,0,2,10],[3,0,3,10],[4,0,4,10],[5,0,5,10],[6,0,6,10],[7,0,7,10],[8,0,8,10],[9,0,9,10],[10,0,11,0],[10,1,11,1],[10,2,11,2],[10,3,11,3],[10,4,10,10]]}
["United Nations"]
["Population Division"]
["Department of Economic and Social Affairs"]
[]
["World Population Prospects: The 2017 Revision"]
["Modified after file FERT/7: Age-specific fertility rates by region, subregion and country, 1950-2015 (births per 1,000 women)"]
["Estimates, 1950 - 2015"]
["POP/DB/WPP/Rev.2017/FERT/F07"]
["June 2017 - Copyright © 2017 by United Nations. All rights reserved"]
["Suggested citation: United Nations, Department of Economic and Social Affairs, Population Division (2017). World Population Prospects: The 2017 Revision, DVD Edition."]
["Country","Region","Period","Population","Fertilità"]
[{"$nulls":4},"15-19","20-24","25-29","30-34","35-39","40-44","45-49"]
["Canada","Northern America","1950-1955",14500439,50,202,206,149,87,31,3]
["Canada","Northern America","1955-1960",16626627,58,227,223,149,88,30,3]
["Canada","Northern America","1960-1965",18653204,54,224,211,140,77,27,2]
["Canada","Northern America","1965-1970",20402106,45,160,156,94,50,16,1]
["Canada","Northern America","1970-1975",22150929,37,119,133,70,28,7,1]
["Canada","Northern America","1975-1980",23729287,30,102,126,65,20,4,0]
["Canada","Northern America","1980-1985",25047604,25,89,121,69,20,3,0]
["Canada","Northern America","1985-1990",26585161,23,78,119,75,24,3,0]
["Canada","Northern America","1990-1995",28371825,25,76,119,86,29,4,0]
["Canada","Northern America","1995-2000",29897475,20,64,104,86,33,5,0]
["Canada","Northern America","2000-2005",31331723,14,52,98,93,38,6,0]
["Canada","Northern America","2005-2010",33029555,14,52,99,105,49,8,0]
["Canada","Northern America","2010-2015",35069655,11,44,96,108,53,10,0]
["United States of America","Northern America","1950-1955",163570017,85,218,179,110,55,15,1]
["United States of America","Northern America","1955-1960",177840654,89,249,192,113,57,15,1]
["United States of America","Northern America","1960-1965",192273786,77,224,179,103,50,14,1]
["United States of America","Northern America","1965-1970",203877222,67,172,144,78,37,10,1]
["United States of America","Northern America","1970-1975",213377720,61,132,121,60,24,6,0]
["United States of America","Northern America","1975-1980",223363618,53,112,109,57,19,4,0]
["United States of America","Northern America","1980-1985",234150502,52,110,110,64,21,4,0]
["United States of America","Northern America","1985-1990",245435738,53,110,114,74,27,5,0]
["United States of America","Northern America","1990-1995",257544159,60,113,115,80,33,6,0]
["United States of America","Northern America","1995-2000",272200741,51,108,110,85,37,7,0]
["United States of America","Northern America","2000-2005",287381793,43,104,115,94,43,9,0]
["United States of America","Northern America","2005-2010",300600492,39,101,115,98,47,10,1]
["United States of America","Northern America","2010-2015",314368801,28,82,106,98,49,10,1]
[]
[]
[]
["sopravvivvenze/mortalità (meglio)","si sono medificate nel tempo--> scrivi una funzione (NO MUMERO)"]
["aspettative di vita "]
["ANDAMENTO MORTALITA' NELLA NOSTRA AREA (NON SINGOLI PAESI) TRA IL 1950-2015 PER OGNI CLASSE DI ETA'"]
["ricava l(x), ricava mu(x)"]

{"sheet":"by year","index":1,"n_rows":50,"n_cols":11,"rows_kept":50,"merged":[[0,0,0,10],[1,0,1,10],[2,0,2,10],[3,0,3,10],[4,0,4,10],[5,0,5,10],[6,0,6,10],[7,0,7,10],[8,0,8,10],[9,0,9,10],[10,0,11,0],[10,1,11,1],[10,2,11,2],[10,3,11,3],[10,4,10,10]]}
["United Nations"]
["Population Division"]
["Department of Economic and Social Affairs"]
[]
["World Population Prospects: The 2017 Revision"]
["Modified after file FERT/7: Age-specific fertility rates by region, subregion and country, 1950-2015 (births per 1,000 women)"]
["Estimates, 1950 - 2015"]
["POP/DB/WPP/Rev.2017/FERT/F07"]
["June 2017 - Copyright © 2017 by United Nations. All rights reserved"]
["Suggested citation: United Nations, Department of Economic and Social Affairs, Population Division (2017). World Population Prospects: The 2017 Revision, DVD Edition."]
["Country","Region","Period","Population","Fertilità"]
[{"$nulls":4},"15-19","20-24","25-29","30-34","35-39","40-44","45-49"]
["Canada","Northern America","1950-1955",14500439,50,202,206,149,87,31,3]
["United States of America","Northern America","1950-1955",163570017,85,218,179,110,55,15,1]
[]
["Canada","Northern America","1955-1960",16626627,58,227,223,149,88,30,3]
["United States of America","Northern America","1955-1960",177840654,89,249,192,113,57,15,1]
[]
["Canada","Northern America","1960-1965",18653204,54,224,211,140,77,27,2]
["United States of America","Northern America","1960-1965",192273786,77,224,179,103,50,14,1]
[]
["Canada","Northern America","1965-1970",20402106,45,160,156,94,50,16,1]
["United States of America","Northern America","1965-1970",203877222,67,172,144,78,37,10,1]
[]
["Canada","Northern America","1970-1975",22150929,37,119,133,70,28,7,1]
["United States of America","Northern America","1970-1975",213377720,61,132,121,60,24,6,0]
[]
["Canada","Northern America","1975-1980",23729287,30,102,126,65,20,4,0]
["United States of America","Northern America","1975-1980",223363618,53,112,109,57,19,4,0]
[]
["Canada","Northern America","1980-1985",25047604,25,89,121,69,20,3,0]
["United States of America","Northern America","1980-1985",234150502,52,110,110,64,21,4,0]
[]
["Canada","Northern America","1985-1990",26585161,23,78,119,75,24,3,0]
["United States of America","Northern America","1985-1990",245435738,53,110,114,74,27,5,0]
[]
["Canada","Northern America","1990-1995",28371825,25,76,119,86,29,4,0]
["United States of America","Northern America","1990-1995",257544159,60,113,115,80,33,6,0]
[]
["Canada","Northern America","1995-2000",29897475,20,64,104,86,33,5,0]
["United States of America","Northern America","1995-2000",272200741,51,108,110,85,37,7,0]
[]
["Canada","Northern America","2000-2005",31331723,14,52,98,93,38,6,0]
["United States of America","Northern America","2000-2005",287381793,43,104,115,94,43,9,0]
[]
["Canada","Northern America","2005-2010",33029555,14,52,99,105,49,8,0]
["United States of America","Northern America","2005-2010",300600492,39,101,115,98,47,10,1]
[]
["Canada","Northern America","2010-2015",35069655,11,44,96,108,53,10,0]
["United States of America","Northern America","2010-2015",314368801,28,82,106,98,49,10,1]

{"sheet":"values","index":2,"n_rows":32,"n_cols":9,"rows_kept":32,"merged":[[0,0,1,0],[0,1,1,1],[0,2,0,8]]}
["Period","Population","Fertilità"]
[null,null,"15-19","20-24","25-29","30-34","35-39","40-44","45-49"]
["1950-1955",{"$f":"'by country'!D13+values!D26","v":14500439},{"$f":"('by country'!E13/1000*'by country'!$D13/2)+('by country'!E26/1000*'by country'!$D26/2)","v":{"v":7314236.6975,"d":"7314237"}},{"$f":"('by country'!F13/1000*'by country'!$D13/2)+('by country'!F26/1000*'by country'!$D26/2)","v":{"v":19293676.192,"d":"19293676"}},{"$f":"('by country'!G13/1000*'by country'!$D13/2)+('by country'!G26/1000*'by country'!$D26/2)","v":{"v":16133061.738499999,"d":"16133062"}},{"$f":"('by country'!H13/1000*'by country'!$D13/2)+('by country'!H26/1000*'by country'!$D26/2)","v":{"v":10076633.6405,"d":"10076634"}},{"$f":"('by country'!I13/1000*'by country'!$D13/2)+('by country'!I26/1000*'by country'!$D26/2)","v":{"v":5128944.564,"d":"5128945"}},{"$f":"('by country'!J13/1000*'by country'!$D13/2)+('by country'!J26/1000*'by country'!$D26/2)","v":{"v":1451531.932,"d":"1451532"}},{"$f":"('by country'!K13/1000*'by country'!$D13/2)+('by country'!K26/1000*'by country'!$D26/2)","v":{"v":103535.667,"d":"103536"}}]
["1955-1960",{"$f":"'by country'!D14+values!D27","v":16626627},{"$f":"('by country'!E14/1000*'by country'!$D14/2)+('by country'!E27/1000*'by country'!$D27/2)","v":{"v":8396081.285999998,"d":"8396081"}},{"$f":"('by country'!F14/1000*'by country'!$D14/2)+('by country'!F27/1000*'by country'!$D27/2)","v":{"v":24028283.5875,"d":"24028284"}},{"$f":"('by country'!G14/1000*'by country'!$D14/2)+('by country'!G27/1000*'by country'!$D27/2)","v":{"v":18926571.694500003,"d":"18926572"}},{"$f":"('by country'!H14/1000*'by country'!$D14/2)+('by country'!H27/1000*'by country'!$D27/2)","v":{"v":11286680.6625,"d":"11286681"}},{"$f":"('by country'!I14/1000*'by country'!$D14/2)+('by country'!I27/1000*'by country'!$D27/2)","v":{"v":5800030.227,"d":"5800030"}},{"$f":"('by country'!J14/1000*'by country'!$D14/2)+('by country'!J27/1000*'by country'!$D27/2)","v":{"v":1583204.31,"d":"1583204"}},{"$f":"('by country'!K14/1000*'by country'!$D14/2)+('by country'!K27/1000*'by country'!$D27/2)","v":{"v":113860.2675,"d":"113860"}}]
["1960-1965",{"$f":"'by country'!D15+values!D28","v":18653204},{"$f":"('by country'!E15/1000*'by country'!$D15/2)+('by country'!E28/1000*'by country'!$D28/2)","v":{"v":7906177.269,"d":"7906177"}},{"$f":"('by country'!F15/1000*'by country'!$D15/2)+('by country'!F28/1000*'by country'!$D28/2)","v":{"v":23623822.880000003,"d":"23623823"}},{"$f":"('by country'!G15/1000*'by country'!$D15/2)+('by country'!G28/1000*'by country'!$D28/2)","v":{"v":19176416.869,"d":"19176417"}},{"$f":"('by country'!H15/1000*'by country'!$D15/2)+('by country'!H28/1000*'by country'!$D28/2)","v":{"v":11207824.259,"d":"11207824"}},{"$f":"('by country'!I15/1000*'by country'!$D15/2)+('by country'!I28/1000*'by country'!$D28/2)","v":{"v":5524993.004000001,"d":"5524993"}},{"$f":"('by country'!J15/1000*'by country'!$D15/2)+('by country'!J28/1000*'by country'!$D28/2)","v":{"v":1597734.756,"d":"1597735"}},{"$f":"('by country'!K15/1000*'by country'!$D15/2)+('by country'!K28/1000*'by country'!$D28/2)","v":{"v":114790.097,"d":"114790"}}]
["1965-1970",{"$f":"'by country'!D16+values!D29","v":20402106},{"$f":"('by country'!E16/1000*'by country'!$D16/2)+('by country'!E29/1000*'by country'!$D29/2)","v":{"v":7288934.322000001,"d":"7288934"}},{"$f":"('by country'!F16/1000*'by country'!$D16/2)+('by country'!F29/1000*'by country'!$D29/2)","v":{"v":19165609.572,"d":"19165610"}},{"$f":"('by country'!G16/1000*'by country'!$D16/2)+('by country'!G29/1000*'by country'!$D29/2)","v":{"v":16270524.251999998,"d":"16270524"}},{"$f":"('by country'!H16/1000*'by country'!$D16/2)+('by country'!H29/1000*'by country'!$D29/2)","v":{"v":8910110.64,"d":"8910111"}},{"$f":"('by country'!I16/1000*'by country'!$D16/2)+('by country'!I29/1000*'by country'!$D29/2)","v":{"v":4281781.257,"d":"4281781"}},{"$f":"('by country'!J16/1000*'by country'!$D16/2)+('by country'!J29/1000*'by country'!$D29/2)","v":{"v":1182602.958,"d":"1182603"}},{"$f":"('by country'!K16/1000*'by country'!$D16/2)+('by country'!K29/1000*'by country'!$D29/2)","v":{"v":112139.664,"d":"112140"}}]
["1970-1975",{"$f":"'by country'!D17+values!D30","v":22150929},{"$f":"('by country'!E17/1000*'by country'!$D17/2)+('by country'!E30/1000*'by country'!$D30/2)","v":{"v":6917812.6465,"d":"6917813"}},{"$f":"('by country'!F17/1000*'by country'!$D17/2)+('by country'!F30/1000*'by country'!$D30/2)","v":{"v":15400909.795500001,"d":"15400910"}},{"$f":"('by country'!G17/1000*'by country'!$D17/2)+('by country'!G30/1000*'by country'!$D30/2)","v":{"v":14382388.8385,"d":"14382389"}},{"$f":"('by country'!H17/1000*'by country'!$D17/2)+('by country'!H30/1000*'by country'!$D30/2)","v":{"v":7176614.115,"d":"7176614"}},{"$f":"('by country'!I17/1000*'by country'!$D17/2)+('by country'!I30/1000*'by country'!$D30/2)","v":{"v":2870645.646,"d":"2870646"}},{"$f":"('by country'!J17/1000*'by country'!$D17/2)+('by country'!J30/1000*'by country'!$D30/2)","v":{"v":717661.4115,"d":"717661"}},{"$f":"('by country'!K17/1000*'by country'!$D17/2)+('by country'!K30/1000*'by country'!$D30/2)","v":{"v":11075.4645,"d":"11075"}}]
["1975-1980",{"$f":"'by country'!D18+values!D31","v":23729287},{"$f":"('by country'!E18/1000*'by country'!$D18/2)+('by country'!E31/1000*'by country'!$D31/2)","v":{"v":6275075.181999999,"d":"6275075"}},{"$f":"('by country'!F18/1000*'by country'!$D18/2)+('by country'!F31/1000*'by country'!$D31/2)","v":{"v":13718556.245000001,"d":"13718556"}},{"$f":"('by country'!G18/1000*'by country'!$D18/2)+('by country'!G31/1000*'by country'!$D31/2)","v":{"v":13668262.262,"d":"13668262"}},{"$f":"('by country'!H18/1000*'by country'!$D18/2)+('by country'!H31/1000*'by country'!$D31/2)","v":{"v":7137064.9405,"d":"7137065"}},{"$f":"('by country'!I18/1000*'by country'!$D18/2)+('by country'!I31/1000*'by country'!$D31/2)","v":{"v":2359247.241,"d":"2359247"}},{"$f":"('by country'!J18/1000*'by country'!$D18/2)+('by country'!J31/1000*'by country'!$D31/2)","v":{"v":494185.81000000006,"d":"494186"}},{"$f":"('by country'!K18/1000*'by country'!$D18/2)+('by country'!K31/1000*'by country'!$D31/2)","v":0}]
["1980-1985",{"$f":"'by country'!D19+values!D32","v":25047604},{"$f":"('by country'!E19/1000*'by country'!$D19/2)+('by country'!E32/1000*'by country'!$D32/2)","v":{"v":6401008.102,"d":"6401008"}},{"$f":"('by country'!F19/1000*'by country'!$D19/2)+('by country'!F32/1000*'by country'!$D32/2)","v":{"v":13992895.988,"d":"13992896"}},{"$f":"('by country'!G19/1000*'by country'!$D19/2)+('by country'!G32/1000*'by country'!$D32/2)","v":{"v":14393657.651999999,"d":"14393658"}},{"$f":"('by country'!H19/1000*'by country'!$D19/2)+('by country'!H32/1000*'by country'!$D32/2)","v":{"v":8356958.402000001,"d":"8356958"}},{"$f":"('by country'!I19/1000*'by country'!$D19/2)+('by country'!I32/1000*'by country'!$D32/2)","v":{"v":2709056.311,"d":"2709056"}},{"$f":"('by country'!J19/1000*'by country'!$D19/2)+('by country'!J32/1000*'by country'!$D32/2)","v":{"v":505872.41000000003,"d":"505872"}},{"$f":"('by country'!K19/1000*'by country'!$D19/2)+('by country'!K32/1000*'by country'!$D32/2)","v":0}]
["1985-1990",{"$f":"'by country'!D20+values!D33","v":26585161},{"$f":"('by country'!E20/1000*'by country'!$D20/2)+('by country'!E33/1000*'by country'!$D33/2)","v":{"v":6809776.4085,"d":"6809776"}},{"$f":"('by country'!F20/1000*'by country'!$D20/2)+('by country'!F33/1000*'by country'!$D33/2)","v":{"v":14535786.868999999,"d":"14535787"}},{"$f":"('by country'!G20/1000*'by country'!$D20/2)+('by country'!G33/1000*'by country'!$D33/2)","v":{"v":15571654.1455,"d":"15571654"}},{"$f":"('by country'!H20/1000*'by country'!$D20/2)+('by country'!H33/1000*'by country'!$D33/2)","v":{"v":10078065.8435,"d":"10078066"}},{"$f":"('by country'!I20/1000*'by country'!$D20/2)+('by country'!I33/1000*'by country'!$D33/2)","v":{"v":3632404.395,"d":"3632404"}},{"$f":"('by country'!J20/1000*'by country'!$D20/2)+('by country'!J33/1000*'by country'!$D33/2)","v":{"v":653467.0865,"d":"653467"}},{"$f":"('by country'!K20/1000*'by country'!$D20/2)+('by country'!K33/1000*'by country'!$D33/2)","v":0}]
["1990-1995",{"$f":"'by country'!D21+values!D34","v":28371825},{"$f":"('by country'!E21/1000*'by country'!$D21/2)+('by country'!E34/1000*'by country'!$D34/2)","v":{"v":8080972.5825,"d":"8080973"}},{"$f":"('by country'!F21/1000*'by country'!$D21/2)+('by country'!F34/1000*'by country'!$D34/2)","v":{"v":15629374.3335,"d":"15629374"}},{"$f":"('by country'!G21/1000*'by country'!$D21/2)+('by country'!G34/1000*'by country'!$D34/2)","v":{"v":16496912.73,"d":"16496913"}},{"$f":"('by country'!H21/1000*'by country'!$D21/2)+('by country'!H34/1000*'by country'!$D34/2)","v":{"v":11521754.834999999,"d":"11521755"}},{"$f":"('by country'!I21/1000*'by country'!$D21/2)+('by country'!I34/1000*'by country'!$D34/2)","v":{"v":4660870.086,"d":"4660870"}},{"$f":"('by country'!J21/1000*'by country'!$D21/2)+('by country'!J34/1000*'by country'!$D34/2)","v":{"v":829376.1270000001,"d":"829376"}},{"$f":"('by country'!K21/1000*'by country'!$D21/2)+('by country'!K34/1000*'by country'!$D34/2)","v":0}]
["1995-2000",{"$f":"'by country'!D22+values!D35","v":29897475},{"$f":"('by country'!E22/1000*'by country'!$D22/2)+('by country'!E35/1000*'by country'!$D35/2)","v":{"v":7240093.6455,"d":"7240094"}},{"$f":"('by country'!F22/1000*'by country'!$D22/2)+('by country'!F35/1000*'by country'!$D35/2)","v":{"v":15655559.214,"d":"15655559"}},{"$f":"('by country'!G22/1000*'by country'!$D22/2)+('by country'!G35/1000*'by country'!$D35/2)","v":{"v":16525709.455,"d":"16525709"}},{"$f":"('by country'!H22/1000*'by country'!$D22/2)+('by country'!H35/1000*'by country'!$D35/2)","v":{"v":12854122.9175,"d":"12854123"}},{"$f":"('by country'!I22/1000*'by country'!$D22/2)+('by country'!I35/1000*'by country'!$D35/2)","v":{"v":5529022.046,"d":"5529022"}},{"$f":"('by country'!J22/1000*'by country'!$D22/2)+('by country'!J35/1000*'by country'!$D35/2)","v":{"v":1027446.2810000001,"d":"1027446"}},{"$f":"('by country'!K22/1000*'by country'!$D22/2)+('by country'!K35/1000*'by country'!$D35/2)","v":0}]
["2000-2005",{"$f":"'by country'!D23+values!D36","v":31331723},{"$f":"('by country'!E23/1000*'by country'!$D23/2)+('by country'!E36/1000*'by country'!$D36/2)","v":{"v":6398030.6104999995,"d":"6398031"}},{"$f":"('by country'!F23/1000*'by country'!$D23/2)+('by country'!F36/1000*'by country'!$D36/2)","v":{"v":15758478.034,"d":"15758478"}},{"$f":"('by country'!G23/1000*'by country'!$D23/2)+('by country'!G36/1000*'by country'!$D36/2)","v":{"v":18059707.5245,"d":"18059708"}},{"$f":"('by country'!H23/1000*'by country'!$D23/2)+('by country'!H36/1000*'by country'!$D36/2)","v":{"v":14963869.3905,"d":"14963869"}},{"$f":"('by country'!I23/1000*'by country'!$D23/2)+('by country'!I36/1000*'by country'!$D36/2)","v":{"v":6774011.286499999,"d":"6774011"}},{"$f":"('by country'!J23/1000*'by country'!$D23/2)+('by country'!J36/1000*'by country'!$D36/2)","v":{"v":1387213.2374999998,"d":"1387213"}},{"$f":"('by country'!K23/1000*'by country'!$D23/2)+('by country'!K36/1000*'by country'!$D36/2)","v":0}]
["2005-2010",{"$f":"'by country'!D24+values!D37","v":33029555},{"$f":"('by country'!E24/1000*'by country'!$D24/2)+('by country'!E37/1000*'by country'!$D37/2)","v":{"v":6092916.478999999,"d":"6092916"}},{"$f":"('by country'!F24/1000*'by country'!$D24/2)+('by country'!F37/1000*'by country'!$D37/2)","v":{"v":16039093.276,"d":"16039093"}},{"$f":"('by country'!G24/1000*'by country'!$D24/2)+('by country'!G37/1000*'by country'!$D37/2)","v":{"v":18919491.2625,"d":"18919491"}},{"$f":"('by country'!H24/1000*'by country'!$D24/2)+('by country'!H37/1000*'by country'!$D37/2)","v":{"v":16463475.7455,"d":"16463476"}},{"$f":"('by country'!I24/1000*'by country'!$D24/2)+('by country'!I37/1000*'by country'!$D37/2)","v":{"v":7873335.6595,"d":"7873336"}},{"$f":"('by country'!J24/1000*'by country'!$D24/2)+('by country'!J37/1000*'by country'!$D37/2)","v":{"v":1635120.68,"d":"1635121"}},{"$f":"('by country'!K24/1000*'by country'!$D24/2)+('by country'!K37/1000*'by country'!$D37/2)","v":{"v":150300.246,"d":"150300"}}]
["2010-2015",{"$f":"'by country'!D25+values!D38","v":35069655},{"$f":"('by country'!E25/1000*'by country'!$D25/2)+('by country'!E38/1000*'by country'!$D38/2)","v":{"v":4594046.3165,"d":"4594046"}},{"$f":"('by country'!F25/1000*'by country'!$D25/2)+('by country'!F38/1000*'by country'!$D38/2)","v":{"v":13660653.251,"d":"13660653"}},{"$f":"('by country'!G25/1000*'by country'!$D25/2)+('by country'!G38/1000*'by country'!$D38/2)","v":{"v":18344889.893,"d":"18344890"}},{"$f":"('by country'!H25/1000*'by country'!$D25/2)+('by country'!H38/1000*'by country'!$D38/2)","v":{"v":17297832.619,"d":"17297833"}},{"$f":"('by country'!I25/1000*'by country'!$D25/2)+('by country'!I38/1000*'by country'!$D38/2)","v":{"v":8631381.482,"d":"8631381"}},{"$f":"('by country'!J25/1000*'by country'!$D25/2)+('by country'!J38/1000*'by country'!$D38/2)","v":{"v":1747192.28,"d":"1747192"}},{"$f":"('by country'!K25/1000*'by country'!$D25/2)+('by country'!K38/1000*'by country'!$D38/2)","v":{"v":157184.4005,"d":"157184"}}]
["2015-2020"]
["2020-2025"]
["2025-2030"]
["2030-2035"]
["2035-2040"]
["2040-2045"]
["2045-2050"]
["2050-2055"]
["2055-2060"]
["2060-2065"]
["2065-2070"]
["2070-2075"]
["2075-2080"]
["2080-2085"]
["2085-2090"]
["2090-2095"]
["2095-2100"]